BEGIN:VCALENDAR
VERSION:2.0
PRODID:-//NextEvent//ICS//EN
CALSCALE:GREGORIAN
METHOD:PUBLISH
BEGIN:VTIMEZONE
TZID:Europe/Zurich
X-LIC-LOCATION:Europe/Zurich
BEGIN:STANDARD
TZOFFSETFROM:+0200
TZOFFSETTO:+0100
TZNAME:CET
DTSTART:19701025T030000
RRULE:FREQ=YEARLY;BYMONTH=10;BYDAY=-1SU
END:STANDARD
BEGIN:DAYLIGHT
TZOFFSETFROM:+0100
TZOFFSETTO:+0200
TZNAME:CEST
DTSTART:19700329T020000
RRULE:FREQ=YEARLY;BYMONTH=3;BYDAY=-1SU
END:DAYLIGHT
END:VTIMEZONE
BEGIN:VEVENT
UID:452@www.ksh.edu
DTSTAMP:20260420T033416Z
DTSTART;TZID=Europe/Zurich:20260513T080000
DTEND;TZID=Europe/Zurich:20260513T120000
SUMMARY:Schnupperhalbtag FMS
LOCATION:Kantonsschule Heerbrugg
DESCRIPTION:Speaker: Kantonsschule Heerbrugg\n\n08:00 – 12:00 Uhr\nOrt: K
 antonsschule Heerbrugg\n\nKontakt: Kanti Heerbrugg <info@kanti-heerbrugg.c
 h>
END:VEVENT
END:VCALENDAR
